BEGIN:VCALENDAR
VERSION:2.0
PRODID:-//St. Anthony of Padua - ECPv6.15.20//NONSGML v1.0//EN
CALSCALE:GREGORIAN
METHOD:PUBLISH
X-WR-CALNAME:St. Anthony of Padua
X-ORIGINAL-URL:https://stanthonyofpadua.ca
X-WR-CALDESC:Events for St. Anthony of Padua
REFRESH-INTERVAL;VALUE=DURATION:PT1H
X-Robots-Tag:noindex
X-PUBLISHED-TTL:PT1H
BEGIN:VTIMEZONE
TZID:America/Halifax
BEGIN:DAYLIGHT
TZOFFSETFROM:-0400
TZOFFSETTO:-0300
TZNAME:ADT
DTSTART:20230312T060000
END:DAYLIGHT
BEGIN:STANDARD
TZOFFSETFROM:-0300
TZOFFSETTO:-0400
TZNAME:AST
DTSTART:20231105T050000
END:STANDARD
BEGIN:DAYLIGHT
TZOFFSETFROM:-0400
TZOFFSETTO:-0300
TZNAME:ADT
DTSTART:20240310T060000
END:DAYLIGHT
BEGIN:STANDARD
TZOFFSETFROM:-0300
TZOFFSETTO:-0400
TZNAME:AST
DTSTART:20241103T050000
END:STANDARD
BEGIN:DAYLIGHT
TZOFFSETFROM:-0400
TZOFFSETTO:-0300
TZNAME:ADT
DTSTART:20250309T060000
END:DAYLIGHT
BEGIN:STANDARD
TZOFFSETFROM:-0300
TZOFFSETTO:-0400
TZNAME:AST
DTSTART:20251102T050000
END:STANDARD
END:VTIMEZONE
BEGIN:VEVENT
DTSTART;TZID=America/Halifax:20240903T090000
DTEND;TZID=America/Halifax:20240903T100000
DTSTAMP:20260421T162633
CREATED:20240905T040105Z
LAST-MODIFIED:20250928T160847Z
UID:173435-1725354000-1725357600@stanthonyofpadua.ca
SUMMARY:THERESA THOMAS - (THANKSGIVING)ADORATION LAMPS : \n1. JOHN MATHEW FAMILY\n2. † MARLENE GOMES
DESCRIPTION:
URL:https://stanthonyofpadua.ca/event/theresa-thomas-thanksgivingadoration-lamps-1-john-mathew-family2-%e2%80%a0-marlene-gomes-2/
LOCATION:St. Anthony of Padua\, 940 North Park Drive\, Brampton\, ON\, L6S 3L5\, Canada
CATEGORIES:MASS INTENTION
END:VEVENT
BEGIN:VEVENT
DTSTART;TZID=America/Halifax:20240903T190000
DTEND;TZID=America/Halifax:20240903T200000
DTSTAMP:20260421T162633
CREATED:20240905T040111Z
LAST-MODIFIED:20250928T160847Z
UID:173436-1725390000-1725393600@stanthonyofpadua.ca
SUMMARY:† EMIL MARIANAYAGAM† SANDY & JULIETTE DE SOUSA\nARJUN & MONA PONNERI\nTHANKSGIVING MASS OFFERING\n† PRICILLA & RUDOLFO\n† TEODOR & CONSOLACION\n† VICENTA & CELESTINA
DESCRIPTION:
URL:https://stanthonyofpadua.ca/event/%e2%80%a0-emil-marianayagam%e2%80%a0-sandy-juliette-de-sousaarjun-mona-ponnerithanksgiving-mass-offering%e2%80%a0-pricilla-rudolfo%e2%80%a0-teodor-consolacion%e2%80%a0-vic-2/
LOCATION:St. Anthony of Padua\, 940 North Park Drive\, Brampton\, ON\, L6S 3L5\, Canada
CATEGORIES:MASS INTENTION
END:VEVENT
END:VCALENDAR