BEGIN:VCALENDAR
VERSION:2.0
PRODID:-//St. Anthony of Padua - ECPv6.15.20//NONSGML v1.0//EN
CALSCALE:GREGORIAN
METHOD:PUBLISH
X-ORIGINAL-URL:https://stanthonyofpadua.ca
X-WR-CALDESC:Events for St. Anthony of Padua
REFRESH-INTERVAL;VALUE=DURATION:PT1H
X-Robots-Tag:noindex
X-PUBLISHED-TTL:PT1H
BEGIN:VTIMEZONE
TZID:America/Halifax
BEGIN:DAYLIGHT
TZOFFSETFROM:-0400
TZOFFSETTO:-0300
TZNAME:ADT
DTSTART:20230312T060000
END:DAYLIGHT
BEGIN:STANDARD
TZOFFSETFROM:-0300
TZOFFSETTO:-0400
TZNAME:AST
DTSTART:20231105T050000
END:STANDARD
BEGIN:DAYLIGHT
TZOFFSETFROM:-0400
TZOFFSETTO:-0300
TZNAME:ADT
DTSTART:20240310T060000
END:DAYLIGHT
BEGIN:STANDARD
TZOFFSETFROM:-0300
TZOFFSETTO:-0400
TZNAME:AST
DTSTART:20241103T050000
END:STANDARD
BEGIN:DAYLIGHT
TZOFFSETFROM:-0400
TZOFFSETTO:-0300
TZNAME:ADT
DTSTART:20250309T060000
END:DAYLIGHT
BEGIN:STANDARD
TZOFFSETFROM:-0300
TZOFFSETTO:-0400
TZNAME:AST
DTSTART:20251102T050000
END:STANDARD
END:VTIMEZONE
BEGIN:VEVENT
DTSTART;TZID=America/Halifax:20240907T090000
DTEND;TZID=America/Halifax:20240907T100000
DTSTAMP:20260421T162640
CREATED:20240905T040126Z
LAST-MODIFIED:20250928T160847Z
UID:173438-1725699600-1725703200@stanthonyofpadua.ca
SUMMARY:† JOEL VALENTON† TRINETTE BALTHAZAAR\n† MAGDALINE LEONG OI CHAN\n† ANDREW VEDANAYAGAM\nLUIS TEVES - (THANKSGIVING)
DESCRIPTION:
URL:https://stanthonyofpadua.ca/event/%e2%80%a0-joel-valenton%e2%80%a0-trinette-balthazaar%e2%80%a0-magdaline-leong-oi-chan%e2%80%a0-andrew-vedanayagamluis-teves-thanksgiving-2/
LOCATION:St. Anthony of Padua\, 940 North Park Drive\, Brampton\, ON\, L6S 3L5\, Canada
CATEGORIES:MASS INTENTION
END:VEVENT
BEGIN:VEVENT
DTSTART;TZID=America/Halifax:20240907T170000
DTEND;TZID=America/Halifax:20240907T180000
DTSTAMP:20260421T162640
CREATED:20240905T034756Z
LAST-MODIFIED:20250928T160847Z
UID:173418-1725728400-1725732000@stanthonyofpadua.ca
SUMMARY:LINDA & SUCIL CRAWFORD
DESCRIPTION:
URL:https://stanthonyofpadua.ca/event/linda-sucil-crawford/
LOCATION:St. Anthony of Padua\, 940 North Park Drive\, Brampton\, ON\, L6S 3L5\, Canada
CATEGORIES:MASS INTENTION
END:VEVENT
END:VCALENDAR