BEGIN:VCALENDAR
VERSION:2.0
PRODID:-//St. Anthony of Padua - ECPv6.15.20//NONSGML v1.0//EN
CALSCALE:GREGORIAN
METHOD:PUBLISH
X-ORIGINAL-URL:https://stanthonyofpadua.ca
X-WR-CALDESC:Events for St. Anthony of Padua
REFRESH-INTERVAL;VALUE=DURATION:PT1H
X-Robots-Tag:noindex
X-PUBLISHED-TTL:PT1H
BEGIN:VTIMEZONE
TZID:America/Halifax
BEGIN:DAYLIGHT
TZOFFSETFROM:-0400
TZOFFSETTO:-0300
TZNAME:ADT
DTSTART:20230312T060000
END:DAYLIGHT
BEGIN:STANDARD
TZOFFSETFROM:-0300
TZOFFSETTO:-0400
TZNAME:AST
DTSTART:20231105T050000
END:STANDARD
BEGIN:DAYLIGHT
TZOFFSETFROM:-0400
TZOFFSETTO:-0300
TZNAME:ADT
DTSTART:20240310T060000
END:DAYLIGHT
BEGIN:STANDARD
TZOFFSETFROM:-0300
TZOFFSETTO:-0400
TZNAME:AST
DTSTART:20241103T050000
END:STANDARD
BEGIN:DAYLIGHT
TZOFFSETFROM:-0400
TZOFFSETTO:-0300
TZNAME:ADT
DTSTART:20250309T060000
END:DAYLIGHT
BEGIN:STANDARD
TZOFFSETFROM:-0300
TZOFFSETTO:-0400
TZNAME:AST
DTSTART:20251102T050000
END:STANDARD
END:VTIMEZONE
BEGIN:VEVENT
DTSTART;TZID=America/Halifax:20240908T080000
DTEND;TZID=America/Halifax:20240908T090000
DTSTAMP:20260421T162640
CREATED:20240908T183056Z
LAST-MODIFIED:20250928T160846Z
UID:173875-1725782400-1725786000@stanthonyofpadua.ca
SUMMARY:PEOPLE OF ST. ANTHONY
DESCRIPTION:
URL:https://stanthonyofpadua.ca/event/people-of-st-anthony-2/
LOCATION:St. Anthony of Padua\, 940 North Park Drive\, Brampton\, ON\, L6S 3L5\, Canada
CATEGORIES:MASS INTENTION
END:VEVENT
BEGIN:VEVENT
DTSTART;TZID=America/Halifax:20240908T093000
DTEND;TZID=America/Halifax:20240908T103000
DTSTAMP:20260421T162640
CREATED:20240908T183107Z
LAST-MODIFIED:20250928T160846Z
UID:173876-1725787800-1725791400@stanthonyofpadua.ca
SUMMARY:† EDWIN TURNER
DESCRIPTION:
URL:https://stanthonyofpadua.ca/event/%e2%80%a0-edwin-turner/
LOCATION:St. Anthony of Padua\, 940 North Park Drive\, Brampton\, ON\, L6S 3L5\, Canada
CATEGORIES:MASS INTENTION
END:VEVENT
BEGIN:VEVENT
DTSTART;TZID=America/Halifax:20240908T110000
DTEND;TZID=America/Halifax:20240908T120000
DTSTAMP:20260421T162640
CREATED:20240908T183108Z
LAST-MODIFIED:20250928T160846Z
UID:173877-1725793200-1725796800@stanthonyofpadua.ca
SUMMARY:PETER PHUC_NGUYEN & ANNA LE VU
DESCRIPTION:
URL:https://stanthonyofpadua.ca/event/peter-phuc_nguyen-anna-le-vu/
LOCATION:St. Anthony of Padua\, 940 North Park Drive\, Brampton\, ON\, L6S 3L5\, Canada
CATEGORIES:MASS INTENTION
END:VEVENT
BEGIN:VEVENT
DTSTART;TZID=America/Halifax:20240908T123000
DTEND;TZID=America/Halifax:20240908T133000
DTSTAMP:20260421T162640
CREATED:20240908T183109Z
LAST-MODIFIED:20250928T160846Z
UID:173878-1725798600-1725802200@stanthonyofpadua.ca
SUMMARY:MAI PHUONG
DESCRIPTION:
URL:https://stanthonyofpadua.ca/event/mai-phuong/
LOCATION:St. Anthony of Padua\, 940 North Park Drive\, Brampton\, ON\, L6S 3L5\, Canada
CATEGORIES:MASS INTENTION
END:VEVENT
END:VCALENDAR