BEGIN:VCALENDAR
VERSION:2.0
PRODID:-//St. Anthony of Padua - ECPv6.15.20//NONSGML v1.0//EN
CALSCALE:GREGORIAN
METHOD:PUBLISH
X-ORIGINAL-URL:https://stanthonyofpadua.ca
X-WR-CALDESC:Events for St. Anthony of Padua
REFRESH-INTERVAL;VALUE=DURATION:PT1H
X-Robots-Tag:noindex
X-PUBLISHED-TTL:PT1H
BEGIN:VTIMEZONE
TZID:America/Halifax
BEGIN:DAYLIGHT
TZOFFSETFROM:-0400
TZOFFSETTO:-0300
TZNAME:ADT
DTSTART:20230312T060000
END:DAYLIGHT
BEGIN:STANDARD
TZOFFSETFROM:-0300
TZOFFSETTO:-0400
TZNAME:AST
DTSTART:20231105T050000
END:STANDARD
BEGIN:DAYLIGHT
TZOFFSETFROM:-0400
TZOFFSETTO:-0300
TZNAME:ADT
DTSTART:20240310T060000
END:DAYLIGHT
BEGIN:STANDARD
TZOFFSETFROM:-0300
TZOFFSETTO:-0400
TZNAME:AST
DTSTART:20241103T050000
END:STANDARD
BEGIN:DAYLIGHT
TZOFFSETFROM:-0400
TZOFFSETTO:-0300
TZNAME:ADT
DTSTART:20250309T060000
END:DAYLIGHT
BEGIN:STANDARD
TZOFFSETFROM:-0300
TZOFFSETTO:-0400
TZNAME:AST
DTSTART:20251102T050000
END:STANDARD
END:VTIMEZONE
BEGIN:VEVENT
DTSTART;TZID=America/Halifax:20240910T090000
DTEND;TZID=America/Halifax:20240910T100000
DTSTAMP:20260421T162745
CREATED:20240908T183115Z
LAST-MODIFIED:20250928T160846Z
UID:173880-1725958800-1725962400@stanthonyofpadua.ca
SUMMARY:EDYTA & WOJCIECH (SPECIAL INTENTION)ADORATION LAMPS:JOE GOMES (77TH BDAY -THANKSGIVING)
DESCRIPTION:
URL:https://stanthonyofpadua.ca/event/edyta-wojciech-special-intentionjoe-gomes-77th-bday-thanksgiving/
LOCATION:St. Anthony of Padua\, 940 North Park Drive\, Brampton\, ON\, L6S 3L5\, Canada
CATEGORIES:MASS INTENTION
END:VEVENT
BEGIN:VEVENT
DTSTART;TZID=America/Halifax:20240910T190000
DTEND;TZID=America/Halifax:20240910T200000
DTSTAMP:20260421T162745
CREATED:20240908T183116Z
LAST-MODIFIED:20250928T160846Z
UID:173881-1725994800-1725998400@stanthonyofpadua.ca
SUMMARY:† MONA & PRADEEP BHANDARE\nANN & JOSEPH IVANUSEVIC\nSPECIAL INTENTION
DESCRIPTION:
URL:https://stanthonyofpadua.ca/event/%e2%80%a0-mona-pradeep-bhandareann-joseph-ivanusevicspecial-intention/
LOCATION:St. Anthony of Padua\, 940 North Park Drive\, Brampton\, ON\, L6S 3L5\, Canada
CATEGORIES:MASS INTENTION
END:VEVENT
END:VCALENDAR