BEGIN:VCALENDAR
VERSION:2.0
PRODID:-//St. Anthony of Padua - ECPv6.15.20//NONSGML v1.0//EN
CALSCALE:GREGORIAN
METHOD:PUBLISH
X-WR-CALNAME:St. Anthony of Padua
X-ORIGINAL-URL:https://stanthonyofpadua.ca
X-WR-CALDESC:Events for St. Anthony of Padua
REFRESH-INTERVAL;VALUE=DURATION:PT1H
X-Robots-Tag:noindex
X-PUBLISHED-TTL:PT1H
BEGIN:VTIMEZONE
TZID:America/Halifax
BEGIN:DAYLIGHT
TZOFFSETFROM:-0400
TZOFFSETTO:-0300
TZNAME:ADT
DTSTART:20230312T060000
END:DAYLIGHT
BEGIN:STANDARD
TZOFFSETFROM:-0300
TZOFFSETTO:-0400
TZNAME:AST
DTSTART:20231105T050000
END:STANDARD
BEGIN:DAYLIGHT
TZOFFSETFROM:-0400
TZOFFSETTO:-0300
TZNAME:ADT
DTSTART:20240310T060000
END:DAYLIGHT
BEGIN:STANDARD
TZOFFSETFROM:-0300
TZOFFSETTO:-0400
TZNAME:AST
DTSTART:20241103T050000
END:STANDARD
BEGIN:DAYLIGHT
TZOFFSETFROM:-0400
TZOFFSETTO:-0300
TZNAME:ADT
DTSTART:20250309T060000
END:DAYLIGHT
BEGIN:STANDARD
TZOFFSETFROM:-0300
TZOFFSETTO:-0400
TZNAME:AST
DTSTART:20251102T050000
END:STANDARD
END:VTIMEZONE
BEGIN:VEVENT
DTSTART;TZID=America/Halifax:20240914T090000
DTEND;TZID=America/Halifax:20240914T100000
DTSTAMP:20260421T163757
CREATED:20240908T183131Z
LAST-MODIFIED:20250928T160846Z
UID:173885-1726304400-1726308000@stanthonyofpadua.ca
SUMMARY:† ART SAMPSON\nMARIETA BELEN\nKATHERINE & BRUCE YIP - (BIRTHDAY)
DESCRIPTION:
URL:https://stanthonyofpadua.ca/event/%e2%80%a0-art-sampsonmarieta-belenkatherine-bruce-yip-birthday/
LOCATION:St. Anthony of Padua\, 940 North Park Drive\, Brampton\, ON\, L6S 3L5\, Canada
CATEGORIES:MASS INTENTION
END:VEVENT
BEGIN:VEVENT
DTSTART;TZID=America/Halifax:20240914T170000
DTEND;TZID=America/Halifax:20240914T180000
DTSTAMP:20260421T163757
CREATED:20240908T183138Z
LAST-MODIFIED:20250928T160846Z
UID:173886-1726333200-1726336800@stanthonyofpadua.ca
SUMMARY:† DOUGLAS GYNOR
DESCRIPTION:
URL:https://stanthonyofpadua.ca/event/%e2%80%a0-douglas-gynor/
LOCATION:St. Anthony of Padua\, 940 North Park Drive\, Brampton\, ON\, L6S 3L5\, Canada
CATEGORIES:MASS INTENTION
END:VEVENT
END:VCALENDAR