BEGIN:VCALENDAR
VERSION:2.0
PRODID:-//St. Anthony of Padua - ECPv6.15.20//NONSGML v1.0//EN
CALSCALE:GREGORIAN
METHOD:PUBLISH
X-WR-CALNAME:St. Anthony of Padua
X-ORIGINAL-URL:https://stanthonyofpadua.ca
X-WR-CALDESC:Events for St. Anthony of Padua
REFRESH-INTERVAL;VALUE=DURATION:PT1H
X-Robots-Tag:noindex
X-PUBLISHED-TTL:PT1H
BEGIN:VTIMEZONE
TZID:America/Halifax
BEGIN:DAYLIGHT
TZOFFSETFROM:-0400
TZOFFSETTO:-0300
TZNAME:ADT
DTSTART:20230312T060000
END:DAYLIGHT
BEGIN:STANDARD
TZOFFSETFROM:-0300
TZOFFSETTO:-0400
TZNAME:AST
DTSTART:20231105T050000
END:STANDARD
BEGIN:DAYLIGHT
TZOFFSETFROM:-0400
TZOFFSETTO:-0300
TZNAME:ADT
DTSTART:20240310T060000
END:DAYLIGHT
BEGIN:STANDARD
TZOFFSETFROM:-0300
TZOFFSETTO:-0400
TZNAME:AST
DTSTART:20241103T050000
END:STANDARD
BEGIN:DAYLIGHT
TZOFFSETFROM:-0400
TZOFFSETTO:-0300
TZNAME:ADT
DTSTART:20250309T060000
END:DAYLIGHT
BEGIN:STANDARD
TZOFFSETFROM:-0300
TZOFFSETTO:-0400
TZNAME:AST
DTSTART:20251102T050000
END:STANDARD
END:VTIMEZONE
BEGIN:VEVENT
DTSTART;TZID=America/Halifax:20240915T080000
DTEND;TZID=America/Halifax:20240915T090000
DTSTAMP:20260421T162633
CREATED:20240914T170839Z
LAST-MODIFIED:20250928T160845Z
UID:173924-1726387200-1726390800@stanthonyofpadua.ca
SUMMARY:PEOPLE OF ST. ANTHONY
DESCRIPTION:
URL:https://stanthonyofpadua.ca/event/people-of-st-anthony-3/
LOCATION:St. Anthony of Padua\, 940 North Park Drive\, Brampton\, ON\, L6S 3L5\, Canada
CATEGORIES:MASS INTENTION
END:VEVENT
BEGIN:VEVENT
DTSTART;TZID=America/Halifax:20240915T093000
DTEND;TZID=America/Halifax:20240915T103000
DTSTAMP:20260421T162633
CREATED:20240914T170840Z
LAST-MODIFIED:20250928T160845Z
UID:173925-1726392600-1726396200@stanthonyofpadua.ca
SUMMARY:NASH FAMILY & JILL
DESCRIPTION:
URL:https://stanthonyofpadua.ca/event/nash-family-jill/
LOCATION:St. Anthony of Padua\, 940 North Park Drive\, Brampton\, ON\, L6S 3L5\, Canada
CATEGORIES:MASS INTENTION
END:VEVENT
BEGIN:VEVENT
DTSTART;TZID=America/Halifax:20240915T110000
DTEND;TZID=America/Halifax:20240915T120000
DTSTAMP:20260421T162633
CREATED:20240914T170841Z
LAST-MODIFIED:20250928T160845Z
UID:173926-1726398000-1726401600@stanthonyofpadua.ca
SUMMARY:MART HUYNH SUU & MARY THUY_VU
DESCRIPTION:
URL:https://stanthonyofpadua.ca/event/mart-huynh-suu-mary-thuy_vu/
LOCATION:St. Anthony of Padua\, 940 North Park Drive\, Brampton\, ON\, L6S 3L5\, Canada
CATEGORIES:MASS INTENTION
END:VEVENT
BEGIN:VEVENT
DTSTART;TZID=America/Halifax:20240915T123000
DTEND;TZID=America/Halifax:20240915T133000
DTSTAMP:20260421T162633
CREATED:20240914T170842Z
LAST-MODIFIED:20250928T160845Z
UID:173927-1726403400-1726407000@stanthonyofpadua.ca
SUMMARY:† MITCH CHAVES
DESCRIPTION:
URL:https://stanthonyofpadua.ca/event/%e2%80%a0-mitch-chaves/
LOCATION:St. Anthony of Padua\, 940 North Park Drive\, Brampton\, ON\, L6S 3L5\, Canada
CATEGORIES:MASS INTENTION
END:VEVENT
END:VCALENDAR