BEGIN:VCALENDAR
VERSION:2.0
PRODID:-//St. Anthony of Padua - ECPv6.15.20//NONSGML v1.0//EN
CALSCALE:GREGORIAN
METHOD:PUBLISH
X-WR-CALNAME:St. Anthony of Padua
X-ORIGINAL-URL:https://stanthonyofpadua.ca
X-WR-CALDESC:Events for St. Anthony of Padua
REFRESH-INTERVAL;VALUE=DURATION:PT1H
X-Robots-Tag:noindex
X-PUBLISHED-TTL:PT1H
BEGIN:VTIMEZONE
TZID:America/Toronto
BEGIN:DAYLIGHT
TZOFFSETFROM:-0500
TZOFFSETTO:-0400
TZNAME:EDT
DTSTART:20230312T070000
END:DAYLIGHT
BEGIN:STANDARD
TZOFFSETFROM:-0400
TZOFFSETTO:-0500
TZNAME:EST
DTSTART:20231105T060000
END:STANDARD
BEGIN:DAYLIGHT
TZOFFSETFROM:-0500
TZOFFSETTO:-0400
TZNAME:EDT
DTSTART:20240310T070000
END:DAYLIGHT
BEGIN:STANDARD
TZOFFSETFROM:-0400
TZOFFSETTO:-0500
TZNAME:EST
DTSTART:20241103T060000
END:STANDARD
BEGIN:DAYLIGHT
TZOFFSETFROM:-0500
TZOFFSETTO:-0400
TZNAME:EDT
DTSTART:20250309T070000
END:DAYLIGHT
BEGIN:STANDARD
TZOFFSETFROM:-0400
TZOFFSETTO:-0500
TZNAME:EST
DTSTART:20251102T060000
END:STANDARD
END:VTIMEZONE
BEGIN:VEVENT
DTSTART;TZID=America/Toronto:20241004T090000
DTEND;TZID=America/Toronto:20241004T100000
DTSTAMP:20260421T144738
CREATED:20240927T160343Z
LAST-MODIFIED:20250928T160842Z
UID:174215-1728032400-1728036000@stanthonyofpadua.ca
SUMMARY:NHUNG -INTENTION
DESCRIPTION:
URL:https://stanthonyofpadua.ca/event/nhung-intention/
LOCATION:St. Anthony of Padua\, 940 North Park Drive\, Brampton\, ON\, L6S 3L5\, Canada
CATEGORIES:MASS INTENTION
END:VEVENT
BEGIN:VEVENT
DTSTART;TZID=America/Toronto:20241004T190000
DTEND;TZID=America/Toronto:20241004T200000
DTSTAMP:20260421T144738
CREATED:20240927T160350Z
LAST-MODIFIED:20250928T160842Z
UID:174216-1728068400-1728072000@stanthonyofpadua.ca
SUMMARY:ART & MARLENE SAMPSONPEMIL MARIANAYAGAMANTHONY & JOSEPHINE LIAUHOLY SOULS IN PURGATORY
DESCRIPTION:
URL:https://stanthonyofpadua.ca/event/art-marlene-sampsonpemil-marianayagamanthony-josephine-liauholy-souls-in-purgatory/
LOCATION:St. Anthony of Padua\, 940 North Park Drive\, Brampton\, ON\, L6S 3L5\, Canada
CATEGORIES:MASS INTENTION
END:VEVENT
END:VCALENDAR