BEGIN:VCALENDAR
VERSION:2.0
PRODID:-//St. Anthony of Padua - ECPv6.15.20//NONSGML v1.0//EN
CALSCALE:GREGORIAN
METHOD:PUBLISH
X-ORIGINAL-URL:https://stanthonyofpadua.ca
X-WR-CALDESC:Events for St. Anthony of Padua
REFRESH-INTERVAL;VALUE=DURATION:PT1H
X-Robots-Tag:noindex
X-PUBLISHED-TTL:PT1H
BEGIN:VTIMEZONE
TZID:America/Toronto
BEGIN:DAYLIGHT
TZOFFSETFROM:-0500
TZOFFSETTO:-0400
TZNAME:EDT
DTSTART:20230312T070000
END:DAYLIGHT
BEGIN:STANDARD
TZOFFSETFROM:-0400
TZOFFSETTO:-0500
TZNAME:EST
DTSTART:20231105T060000
END:STANDARD
BEGIN:DAYLIGHT
TZOFFSETFROM:-0500
TZOFFSETTO:-0400
TZNAME:EDT
DTSTART:20240310T070000
END:DAYLIGHT
BEGIN:STANDARD
TZOFFSETFROM:-0400
TZOFFSETTO:-0500
TZNAME:EST
DTSTART:20241103T060000
END:STANDARD
BEGIN:DAYLIGHT
TZOFFSETFROM:-0500
TZOFFSETTO:-0400
TZNAME:EDT
DTSTART:20250309T070000
END:DAYLIGHT
BEGIN:STANDARD
TZOFFSETFROM:-0400
TZOFFSETTO:-0500
TZNAME:EST
DTSTART:20251102T060000
END:STANDARD
END:VTIMEZONE
BEGIN:VEVENT
DTSTART;TZID=America/Toronto:20241008T090000
DTEND;TZID=America/Toronto:20241008T100000
DTSTAMP:20260421T144906
CREATED:20241005T025127Z
LAST-MODIFIED:20250928T160841Z
UID:174235-1728378000-1728381600@stanthonyofpadua.ca
SUMMARY:PHILIP CALDAS & FAMILY\nADORATION LAMPS:\nNO INTENTION
DESCRIPTION:
URL:https://stanthonyofpadua.ca/event/philip-caldas-familyadoration-lampsno-intention-2/
LOCATION:St. Anthony of Padua\, 940 North Park Drive\, Brampton\, ON\, L6S 3L5\, Canada
CATEGORIES:MASS INTENTION
END:VEVENT
BEGIN:VEVENT
DTSTART;TZID=America/Toronto:20241008T190000
DTEND;TZID=America/Toronto:20241008T200000
DTSTAMP:20260421T144906
CREATED:20241005T025127Z
LAST-MODIFIED:20250928T160841Z
UID:174236-1728414000-1728417600@stanthonyofpadua.ca
SUMMARY:† ANN & JOSEPH IVANUSEVIC† ANITA LUTES† EDMUNDO VILLACIS† MARIAMA RASINA† WALTER CORREAANTONY & JENNY - THANKSGIVINGJOHN RAGELL - HEALING OF CANCER
DESCRIPTION:
URL:https://stanthonyofpadua.ca/event/%e2%80%a0-ann-joseph-ivanusevic%e2%80%a0-anita-lutes%e2%80%a0-edmundo-villacis%e2%80%a0-mariama-rasina%e2%80%a0-walter-correaantony-jenny-thanksgivingjohn-ragell-healing-of-cancer/
LOCATION:St. Anthony of Padua\, 940 North Park Drive\, Brampton\, ON\, L6S 3L5\, Canada
CATEGORIES:MASS INTENTION
END:VEVENT
END:VCALENDAR