BEGIN:VCALENDAR
VERSION:2.0
PRODID:-//St. Anthony of Padua - ECPv6.15.20//NONSGML v1.0//EN
CALSCALE:GREGORIAN
METHOD:PUBLISH
X-ORIGINAL-URL:https://stanthonyofpadua.ca
X-WR-CALDESC:Events for St. Anthony of Padua
REFRESH-INTERVAL;VALUE=DURATION:PT1H
X-Robots-Tag:noindex
X-PUBLISHED-TTL:PT1H
BEGIN:VTIMEZONE
TZID:America/Toronto
BEGIN:DAYLIGHT
TZOFFSETFROM:-0500
TZOFFSETTO:-0400
TZNAME:EDT
DTSTART:20230312T070000
END:DAYLIGHT
BEGIN:STANDARD
TZOFFSETFROM:-0400
TZOFFSETTO:-0500
TZNAME:EST
DTSTART:20231105T060000
END:STANDARD
BEGIN:DAYLIGHT
TZOFFSETFROM:-0500
TZOFFSETTO:-0400
TZNAME:EDT
DTSTART:20240310T070000
END:DAYLIGHT
BEGIN:STANDARD
TZOFFSETFROM:-0400
TZOFFSETTO:-0500
TZNAME:EST
DTSTART:20241103T060000
END:STANDARD
BEGIN:DAYLIGHT
TZOFFSETFROM:-0500
TZOFFSETTO:-0400
TZNAME:EDT
DTSTART:20250309T070000
END:DAYLIGHT
BEGIN:STANDARD
TZOFFSETFROM:-0400
TZOFFSETTO:-0500
TZNAME:EST
DTSTART:20251102T060000
END:STANDARD
END:VTIMEZONE
BEGIN:VEVENT
DTSTART;TZID=America/Toronto:20241015T090000
DTEND;TZID=America/Toronto:20241015T100000
DTSTAMP:20260421T144942
CREATED:20241011T170132Z
LAST-MODIFIED:20250928T160840Z
UID:174330-1728982800-1728986400@stanthonyofpadua.ca
SUMMARY:†  BRANCO & JAIRO D'SOUZA\nADORATION LAMPS:\nNO INTENTION
DESCRIPTION:
URL:https://stanthonyofpadua.ca/event/%e2%80%a0-branco-jairo-dsouzaadoration-lampsno-intention/
LOCATION:St. Anthony of Padua\, 940 North Park Drive\, Brampton\, ON\, L6S 3L5\, Canada
CATEGORIES:MASS INTENTION
END:VEVENT
BEGIN:VEVENT
DTSTART;TZID=America/Toronto:20241015T190000
DTEND;TZID=America/Toronto:20241015T200000
DTSTAMP:20260421T144942
CREATED:20241011T170132Z
LAST-MODIFIED:20250928T160840Z
UID:174331-1729018800-1729022400@stanthonyofpadua.ca
SUMMARY:†  AGUIDA EDORA†  ANN & JOSEPH IVANUSEVIC†  AMROSE LEWIS†  BENHUR & LUZ†  CARMELA CATALANO†  COOMI PANTHAKI†  MANUEL VILLANUEVA (40 DAYS)†  LEANA & NORMA VANJOURMARIAN - THANKSGIVING
DESCRIPTION:
URL:https://stanthonyofpadua.ca/event/%e2%80%a0-aguida-edora%e2%80%a0-ann-joseph-ivanusevic%e2%80%a0-amrose-lewis%e2%80%a0-benhur-luz%e2%80%a0-carmela-catalano%e2%80%a0-coomi-panthaki%e2%80%a0-manuel-villanueva-40-days/
LOCATION:St. Anthony of Padua\, 940 North Park Drive\, Brampton\, ON\, L6S 3L5\, Canada
CATEGORIES:MASS INTENTION
END:VEVENT
END:VCALENDAR