BEGIN:VCALENDAR
VERSION:2.0
PRODID:-//St. Anthony of Padua - ECPv6.15.20//NONSGML v1.0//EN
CALSCALE:GREGORIAN
METHOD:PUBLISH
X-WR-CALNAME:St. Anthony of Padua
X-ORIGINAL-URL:https://stanthonyofpadua.ca
X-WR-CALDESC:Events for St. Anthony of Padua
REFRESH-INTERVAL;VALUE=DURATION:PT1H
X-Robots-Tag:noindex
X-PUBLISHED-TTL:PT1H
BEGIN:VTIMEZONE
TZID:America/Toronto
BEGIN:DAYLIGHT
TZOFFSETFROM:-0500
TZOFFSETTO:-0400
TZNAME:EDT
DTSTART:20230312T070000
END:DAYLIGHT
BEGIN:STANDARD
TZOFFSETFROM:-0400
TZOFFSETTO:-0500
TZNAME:EST
DTSTART:20231105T060000
END:STANDARD
BEGIN:DAYLIGHT
TZOFFSETFROM:-0500
TZOFFSETTO:-0400
TZNAME:EDT
DTSTART:20240310T070000
END:DAYLIGHT
BEGIN:STANDARD
TZOFFSETFROM:-0400
TZOFFSETTO:-0500
TZNAME:EST
DTSTART:20241103T060000
END:STANDARD
BEGIN:DAYLIGHT
TZOFFSETFROM:-0500
TZOFFSETTO:-0400
TZNAME:EDT
DTSTART:20250309T070000
END:DAYLIGHT
BEGIN:STANDARD
TZOFFSETFROM:-0400
TZOFFSETTO:-0500
TZNAME:EST
DTSTART:20251102T060000
END:STANDARD
END:VTIMEZONE
BEGIN:VEVENT
DTSTART;TZID=America/Toronto:20241019T090000
DTEND;TZID=America/Toronto:20241019T100000
DTSTAMP:20260421T144752
CREATED:20241011T170147Z
LAST-MODIFIED:20250928T160840Z
UID:174335-1729328400-1729332000@stanthonyofpadua.ca
SUMMARY:ALL DECEASED FAMILY MEMBER†  GIOVANNI SANSALONE†  ROBERT PJSHEHARA & JEREMY SATO - BIRTHDAY
DESCRIPTION:
URL:https://stanthonyofpadua.ca/event/all-deceased-family-member%e2%80%a0-giovanni-sansalone%e2%80%a0-robert-pjshehara-jeremy-sato-birthday/
LOCATION:St. Anthony of Padua\, 940 North Park Drive\, Brampton\, ON\, L6S 3L5\, Canada
CATEGORIES:MASS INTENTION
END:VEVENT
BEGIN:VEVENT
DTSTART;TZID=America/Toronto:20241019T170000
DTEND;TZID=America/Toronto:20241019T180000
DTSTAMP:20260421T144752
CREATED:20241011T170147Z
LAST-MODIFIED:20250928T160840Z
UID:174336-1729357200-1729360800@stanthonyofpadua.ca
SUMMARY:†  ROBERT JOSEPH
DESCRIPTION:
URL:https://stanthonyofpadua.ca/event/%e2%80%a0-robert-joseph/
LOCATION:St. Anthony of Padua\, 940 North Park Drive\, Brampton\, ON\, L6S 3L5\, Canada
CATEGORIES:MASS INTENTION
END:VEVENT
END:VCALENDAR