BEGIN:VCALENDAR
VERSION:2.0
PRODID:-//St. Anthony of Padua - ECPv6.15.20//NONSGML v1.0//EN
CALSCALE:GREGORIAN
METHOD:PUBLISH
X-WR-CALNAME:St. Anthony of Padua
X-ORIGINAL-URL:https://stanthonyofpadua.ca
X-WR-CALDESC:Events for St. Anthony of Padua
REFRESH-INTERVAL;VALUE=DURATION:PT1H
X-Robots-Tag:noindex
X-PUBLISHED-TTL:PT1H
BEGIN:VTIMEZONE
TZID:America/Toronto
BEGIN:DAYLIGHT
TZOFFSETFROM:-0500
TZOFFSETTO:-0400
TZNAME:EDT
DTSTART:20230312T070000
END:DAYLIGHT
BEGIN:STANDARD
TZOFFSETFROM:-0400
TZOFFSETTO:-0500
TZNAME:EST
DTSTART:20231105T060000
END:STANDARD
BEGIN:DAYLIGHT
TZOFFSETFROM:-0500
TZOFFSETTO:-0400
TZNAME:EDT
DTSTART:20240310T070000
END:DAYLIGHT
BEGIN:STANDARD
TZOFFSETFROM:-0400
TZOFFSETTO:-0500
TZNAME:EST
DTSTART:20241103T060000
END:STANDARD
BEGIN:DAYLIGHT
TZOFFSETFROM:-0500
TZOFFSETTO:-0400
TZNAME:EDT
DTSTART:20250309T070000
END:DAYLIGHT
BEGIN:STANDARD
TZOFFSETFROM:-0400
TZOFFSETTO:-0500
TZNAME:EST
DTSTART:20251102T060000
END:STANDARD
END:VTIMEZONE
BEGIN:VEVENT
DTSTART;TZID=America/Toronto:20241026T090000
DTEND;TZID=America/Toronto:20241026T100000
DTSTAMP:20260421T144750
CREATED:20241019T033756Z
LAST-MODIFIED:20250928T160839Z
UID:174366-1729933200-1729936800@stanthonyofpadua.ca
SUMMARY:†  MARCELINA FERNANDES INIGO DARAL - SUCCESSFUL PASSING OF EXAM
DESCRIPTION:
URL:https://stanthonyofpadua.ca/event/%e2%80%a0-marcelina-fernandes-inigo-daral-successful-passing-of-exam/
LOCATION:St. Anthony of Padua\, 940 North Park Drive\, Brampton\, ON\, L6S 3L5\, Canada
CATEGORIES:MASS INTENTION
END:VEVENT
BEGIN:VEVENT
DTSTART;TZID=America/Toronto:20241026T170000
DTEND;TZID=America/Toronto:20241026T180000
DTSTAMP:20260421T144750
CREATED:20241019T033757Z
LAST-MODIFIED:20250928T160737Z
UID:174367-1729962000-1729965600@stanthonyofpadua.ca
SUMMARY:†  DONALD & THELMA CAMPBELL
DESCRIPTION:
URL:https://stanthonyofpadua.ca/event/%e2%80%a0-donald-thelma-campbell/
LOCATION:St. Anthony of Padua\, 940 North Park Drive\, Brampton\, ON\, L6S 3L5\, Canada
CATEGORIES:MASS INTENTION
END:VEVENT
END:VCALENDAR