BEGIN:VCALENDAR
VERSION:2.0
PRODID:-//St. Anthony of Padua - ECPv6.15.20//NONSGML v1.0//EN
CALSCALE:GREGORIAN
METHOD:PUBLISH
X-ORIGINAL-URL:https://stanthonyofpadua.ca
X-WR-CALDESC:Events for St. Anthony of Padua
REFRESH-INTERVAL;VALUE=DURATION:PT1H
X-Robots-Tag:noindex
X-PUBLISHED-TTL:PT1H
BEGIN:VTIMEZONE
TZID:America/Toronto
BEGIN:DAYLIGHT
TZOFFSETFROM:-0500
TZOFFSETTO:-0400
TZNAME:EDT
DTSTART:20230312T070000
END:DAYLIGHT
BEGIN:STANDARD
TZOFFSETFROM:-0400
TZOFFSETTO:-0500
TZNAME:EST
DTSTART:20231105T060000
END:STANDARD
BEGIN:DAYLIGHT
TZOFFSETFROM:-0500
TZOFFSETTO:-0400
TZNAME:EDT
DTSTART:20240310T070000
END:DAYLIGHT
BEGIN:STANDARD
TZOFFSETFROM:-0400
TZOFFSETTO:-0500
TZNAME:EST
DTSTART:20241103T060000
END:STANDARD
BEGIN:DAYLIGHT
TZOFFSETFROM:-0500
TZOFFSETTO:-0400
TZNAME:EDT
DTSTART:20250309T070000
END:DAYLIGHT
BEGIN:STANDARD
TZOFFSETFROM:-0400
TZOFFSETTO:-0500
TZNAME:EST
DTSTART:20251102T060000
END:STANDARD
END:VTIMEZONE
BEGIN:VEVENT
DTSTART;TZID=America/Toronto:20241102T090000
DTEND;TZID=America/Toronto:20241102T100000
DTSTAMP:20260421T125029
CREATED:20241025T222840Z
LAST-MODIFIED:20250928T160736Z
UID:174399-1730538000-1730541600@stanthonyofpadua.ca
SUMMARY:ALL SOULS IN PURGUTORY† DAVID CALDAS & HEALING OF FAMILY
DESCRIPTION:
URL:https://stanthonyofpadua.ca/event/all-souls-in-purgutory%e2%80%a0-david-caldas-healing-of-family/
LOCATION:St. Anthony of Padua\, 940 North Park Drive\, Brampton\, ON\, L6S 3L5\, Canada
CATEGORIES:MASS INTENTION
END:VEVENT
BEGIN:VEVENT
DTSTART;TZID=America/Toronto:20241102T170000
DTEND;TZID=America/Toronto:20241102T180000
DTSTAMP:20260421T125029
CREATED:20241025T222840Z
LAST-MODIFIED:20250928T160736Z
UID:174400-1730566800-1730570400@stanthonyofpadua.ca
SUMMARY:†  NEVILLE WILLIAMS
DESCRIPTION:
URL:https://stanthonyofpadua.ca/event/%e2%80%a0-neville-williams/
LOCATION:St. Anthony of Padua\, 940 North Park Drive\, Brampton\, ON\, L6S 3L5\, Canada
CATEGORIES:MASS INTENTION
END:VEVENT
END:VCALENDAR