BEGIN:VCALENDAR
VERSION:2.0
PRODID:-//St. Anthony of Padua - ECPv6.15.20//NONSGML v1.0//EN
CALSCALE:GREGORIAN
METHOD:PUBLISH
X-ORIGINAL-URL:https://stanthonyofpadua.ca
X-WR-CALDESC:Events for St. Anthony of Padua
REFRESH-INTERVAL;VALUE=DURATION:PT1H
X-Robots-Tag:noindex
X-PUBLISHED-TTL:PT1H
BEGIN:VTIMEZONE
TZID:America/Toronto
BEGIN:DAYLIGHT
TZOFFSETFROM:-0500
TZOFFSETTO:-0400
TZNAME:EDT
DTSTART:20230312T070000
END:DAYLIGHT
BEGIN:STANDARD
TZOFFSETFROM:-0400
TZOFFSETTO:-0500
TZNAME:EST
DTSTART:20231105T060000
END:STANDARD
BEGIN:DAYLIGHT
TZOFFSETFROM:-0500
TZOFFSETTO:-0400
TZNAME:EDT
DTSTART:20240310T070000
END:DAYLIGHT
BEGIN:STANDARD
TZOFFSETFROM:-0400
TZOFFSETTO:-0500
TZNAME:EST
DTSTART:20241103T060000
END:STANDARD
BEGIN:DAYLIGHT
TZOFFSETFROM:-0500
TZOFFSETTO:-0400
TZNAME:EDT
DTSTART:20250309T070000
END:DAYLIGHT
BEGIN:STANDARD
TZOFFSETFROM:-0400
TZOFFSETTO:-0500
TZNAME:EST
DTSTART:20251102T060000
END:STANDARD
END:VTIMEZONE
BEGIN:VEVENT
DTSTART;TZID=America/Toronto:20241110T080000
DTEND;TZID=America/Toronto:20241110T090000
DTSTAMP:20260421T125005
CREATED:20241110T021723Z
LAST-MODIFIED:20250928T160735Z
UID:174443-1731225600-1731229200@stanthonyofpadua.ca
SUMMARY:PEOPLE OF ST. ANTHONY
DESCRIPTION:
URL:https://stanthonyofpadua.ca/event/people-of-st-anthony-11/
LOCATION:St. Anthony of Padua\, 940 North Park Drive\, Brampton\, ON\, L6S 3L5\, Canada
CATEGORIES:MASS INTENTION
END:VEVENT
BEGIN:VEVENT
DTSTART;TZID=America/Toronto:20241110T093000
DTEND;TZID=America/Toronto:20241110T103000
DTSTAMP:20260421T125005
CREATED:20241110T021724Z
LAST-MODIFIED:20250928T160735Z
UID:174444-1731231000-1731234600@stanthonyofpadua.ca
SUMMARY:† CONRAD KOK CHI MUN
DESCRIPTION:
URL:https://stanthonyofpadua.ca/event/%e2%80%a0-conrad-kok-chi-mun-2/
LOCATION:St. Anthony of Padua\, 940 North Park Drive\, Brampton\, ON\, L6S 3L5\, Canada
CATEGORIES:MASS INTENTION
END:VEVENT
BEGIN:VEVENT
DTSTART;TZID=America/Toronto:20241110T110000
DTEND;TZID=America/Toronto:20241110T120000
DTSTAMP:20260421T125005
CREATED:20241110T021724Z
LAST-MODIFIED:20250928T160734Z
UID:174445-1731236400-1731240000@stanthonyofpadua.ca
SUMMARY:PETER PHUC-NGUYEN & ANNA LE-VU (HEALING)
DESCRIPTION:
URL:https://stanthonyofpadua.ca/event/peter-phuc-nguyen-anna-le-vu-healing-2/
LOCATION:St. Anthony of Padua\, 940 North Park Drive\, Brampton\, ON\, L6S 3L5\, Canada
CATEGORIES:MASS INTENTION
END:VEVENT
BEGIN:VEVENT
DTSTART;TZID=America/Toronto:20241110T123000
DTEND;TZID=America/Toronto:20241110T133000
DTSTAMP:20260421T125005
CREATED:20241110T021724Z
LAST-MODIFIED:20250928T160734Z
UID:174446-1731241800-1731245400@stanthonyofpadua.ca
SUMMARY:†  MERLIC CHARLERY-ALPHONSE (BIRTHDAY THANKSGIVING)
DESCRIPTION:
URL:https://stanthonyofpadua.ca/event/%e2%80%a0-merlic-charlery-alphonse-birthday-thanksgiving/
LOCATION:St. Anthony of Padua\, 940 North Park Drive\, Brampton\, ON\, L6S 3L5\, Canada
CATEGORIES:MASS INTENTION
END:VEVENT
END:VCALENDAR