BEGIN:VCALENDAR
VERSION:2.0
PRODID:-//St. Anthony of Padua - ECPv6.15.20//NONSGML v1.0//EN
CALSCALE:GREGORIAN
METHOD:PUBLISH
X-ORIGINAL-URL:https://stanthonyofpadua.ca
X-WR-CALDESC:Events for St. Anthony of Padua
REFRESH-INTERVAL;VALUE=DURATION:PT1H
X-Robots-Tag:noindex
X-PUBLISHED-TTL:PT1H
BEGIN:VTIMEZONE
TZID:America/Toronto
BEGIN:DAYLIGHT
TZOFFSETFROM:-0500
TZOFFSETTO:-0400
TZNAME:EDT
DTSTART:20230312T070000
END:DAYLIGHT
BEGIN:STANDARD
TZOFFSETFROM:-0400
TZOFFSETTO:-0500
TZNAME:EST
DTSTART:20231105T060000
END:STANDARD
BEGIN:DAYLIGHT
TZOFFSETFROM:-0500
TZOFFSETTO:-0400
TZNAME:EDT
DTSTART:20240310T070000
END:DAYLIGHT
BEGIN:STANDARD
TZOFFSETFROM:-0400
TZOFFSETTO:-0500
TZNAME:EST
DTSTART:20241103T060000
END:STANDARD
BEGIN:DAYLIGHT
TZOFFSETFROM:-0500
TZOFFSETTO:-0400
TZNAME:EDT
DTSTART:20250309T070000
END:DAYLIGHT
BEGIN:STANDARD
TZOFFSETFROM:-0400
TZOFFSETTO:-0500
TZNAME:EST
DTSTART:20251102T060000
END:STANDARD
END:VTIMEZONE
BEGIN:VEVENT
DTSTART;TZID=America/Toronto:20241116T090000
DTEND;TZID=America/Toronto:20241116T100000
DTSTAMP:20260421T125005
CREATED:20241110T021730Z
LAST-MODIFIED:20250928T160734Z
UID:174453-1731747600-1731751200@stanthonyofpadua.ca
SUMMARY:† MAGDALEENE & BERNARD FERNANDO†  MARSHALL & MATILDA TISSERAFOR THE NGUYEN ANCESTORSEMMANUEL - THANKSGIVINGNELLY DEOCA- BIRTHDAYSAMPAGUITA TAN - BIRTHDAYPEREGRINA STORTI- THANKSGIVVING
DESCRIPTION:
URL:https://stanthonyofpadua.ca/event/%e2%80%a0-magdaleene-bernard-fernando%e2%80%a0-marshall-matilda-tisserafor-the-nguyen-ancestorsemmanuel-thanksgivingnelly-deoca-birthdaysampaguita-tan-birthdayperegrina-storti-thank/
LOCATION:St. Anthony of Padua\, 940 North Park Drive\, Brampton\, ON\, L6S 3L5\, Canada
CATEGORIES:MASS INTENTION
END:VEVENT
BEGIN:VEVENT
DTSTART;TZID=America/Toronto:20241116T170000
DTEND;TZID=America/Toronto:20241116T180000
DTSTAMP:20260421T125005
CREATED:20241110T021730Z
LAST-MODIFIED:20250928T160734Z
UID:174454-1731776400-1731780000@stanthonyofpadua.ca
SUMMARY:GABRIEL (HEALING)
DESCRIPTION:
URL:https://stanthonyofpadua.ca/event/gabriel-healing-7/
LOCATION:St. Anthony of Padua\, 940 North Park Drive\, Brampton\, ON\, L6S 3L5\, Canada
CATEGORIES:MASS INTENTION
END:VEVENT
END:VCALENDAR