BEGIN:VCALENDAR
VERSION:2.0
PRODID:-//St. Anthony of Padua - ECPv6.15.20//NONSGML v1.0//EN
CALSCALE:GREGORIAN
METHOD:PUBLISH
X-ORIGINAL-URL:https://stanthonyofpadua.ca
X-WR-CALDESC:Events for St. Anthony of Padua
REFRESH-INTERVAL;VALUE=DURATION:PT1H
X-Robots-Tag:noindex
X-PUBLISHED-TTL:PT1H
BEGIN:VTIMEZONE
TZID:America/Toronto
BEGIN:DAYLIGHT
TZOFFSETFROM:-0500
TZOFFSETTO:-0400
TZNAME:EDT
DTSTART:20230312T070000
END:DAYLIGHT
BEGIN:STANDARD
TZOFFSETFROM:-0400
TZOFFSETTO:-0500
TZNAME:EST
DTSTART:20231105T060000
END:STANDARD
BEGIN:DAYLIGHT
TZOFFSETFROM:-0500
TZOFFSETTO:-0400
TZNAME:EDT
DTSTART:20240310T070000
END:DAYLIGHT
BEGIN:STANDARD
TZOFFSETFROM:-0400
TZOFFSETTO:-0500
TZNAME:EST
DTSTART:20241103T060000
END:STANDARD
BEGIN:DAYLIGHT
TZOFFSETFROM:-0500
TZOFFSETTO:-0400
TZNAME:EDT
DTSTART:20250309T070000
END:DAYLIGHT
BEGIN:STANDARD
TZOFFSETFROM:-0400
TZOFFSETTO:-0500
TZNAME:EST
DTSTART:20251102T060000
END:STANDARD
END:VTIMEZONE
BEGIN:VEVENT
DTSTART;TZID=America/Toronto:20241124T080000
DTEND;TZID=America/Toronto:20241124T090000
DTSTAMP:20260421T125005
CREATED:20241130T195454Z
LAST-MODIFIED:20250928T160733Z
UID:174651-1732435200-1732438800@stanthonyofpadua.ca
SUMMARY:AMARO NORONHA
DESCRIPTION:
URL:https://stanthonyofpadua.ca/event/amaro-noronha/
LOCATION:St. Anthony of Padua\, 940 North Park Drive\, Brampton\, ON\, L6S 3L5\, Canada
CATEGORIES:MASS INTENTION
END:VEVENT
BEGIN:VEVENT
DTSTART;TZID=America/Toronto:20241124T093000
DTEND;TZID=America/Toronto:20241124T103000
DTSTAMP:20260421T125005
CREATED:20241130T195454Z
LAST-MODIFIED:20250928T160733Z
UID:174652-1732440600-1732444200@stanthonyofpadua.ca
SUMMARY:PEOPLE OF ST. ANTHONY
DESCRIPTION:
URL:https://stanthonyofpadua.ca/event/people-of-st-anthony-13/
LOCATION:St. Anthony of Padua\, 940 North Park Drive\, Brampton\, ON\, L6S 3L5\, Canada
CATEGORIES:MASS INTENTION
END:VEVENT
BEGIN:VEVENT
DTSTART;TZID=America/Toronto:20241124T110000
DTEND;TZID=America/Toronto:20241124T120000
DTSTAMP:20260421T125005
CREATED:20241130T195454Z
LAST-MODIFIED:20250928T160733Z
UID:174653-1732446000-1732449600@stanthonyofpadua.ca
SUMMARY:MARY THUY-VU & MAEY HUYNH-SUU - HEALING
DESCRIPTION:
URL:https://stanthonyofpadua.ca/event/mary-thuy-vu-maey-huynh-suu-healing/
LOCATION:St. Anthony of Padua\, 940 North Park Drive\, Brampton\, ON\, L6S 3L5\, Canada
CATEGORIES:MASS INTENTION
END:VEVENT
BEGIN:VEVENT
DTSTART;TZID=America/Toronto:20241124T123000
DTEND;TZID=America/Toronto:20241124T133000
DTSTAMP:20260421T125005
CREATED:20241130T195454Z
LAST-MODIFIED:20250928T160733Z
UID:174654-1732451400-1732455000@stanthonyofpadua.ca
SUMMARY:†  T.P LONAPPAN & THRESSIA
DESCRIPTION:
URL:https://stanthonyofpadua.ca/event/%e2%80%a0-t-p-lonappan-thressia/
LOCATION:St. Anthony of Padua\, 940 North Park Drive\, Brampton\, ON\, L6S 3L5\, Canada
CATEGORIES:MASS INTENTION
END:VEVENT
END:VCALENDAR