BEGIN:VCALENDAR
VERSION:2.0
PRODID:-//St. Anthony of Padua - ECPv6.15.20//NONSGML v1.0//EN
CALSCALE:GREGORIAN
METHOD:PUBLISH
X-WR-CALNAME:St. Anthony of Padua
X-ORIGINAL-URL:https://stanthonyofpadua.ca
X-WR-CALDESC:Events for St. Anthony of Padua
REFRESH-INTERVAL;VALUE=DURATION:PT1H
X-Robots-Tag:noindex
X-PUBLISHED-TTL:PT1H
BEGIN:VTIMEZONE
TZID:America/Toronto
BEGIN:DAYLIGHT
TZOFFSETFROM:-0500
TZOFFSETTO:-0400
TZNAME:EDT
DTSTART:20230312T070000
END:DAYLIGHT
BEGIN:STANDARD
TZOFFSETFROM:-0400
TZOFFSETTO:-0500
TZNAME:EST
DTSTART:20231105T060000
END:STANDARD
BEGIN:DAYLIGHT
TZOFFSETFROM:-0500
TZOFFSETTO:-0400
TZNAME:EDT
DTSTART:20240310T070000
END:DAYLIGHT
BEGIN:STANDARD
TZOFFSETFROM:-0400
TZOFFSETTO:-0500
TZNAME:EST
DTSTART:20241103T060000
END:STANDARD
BEGIN:DAYLIGHT
TZOFFSETFROM:-0500
TZOFFSETTO:-0400
TZNAME:EDT
DTSTART:20250309T070000
END:DAYLIGHT
BEGIN:STANDARD
TZOFFSETFROM:-0400
TZOFFSETTO:-0500
TZNAME:EST
DTSTART:20251102T060000
END:STANDARD
END:VTIMEZONE
BEGIN:VEVENT
DTSTART;TZID=America/Toronto:20241207T090000
DTEND;TZID=America/Toronto:20241207T100000
DTSTAMP:20260421T111435
CREATED:20241130T200221Z
LAST-MODIFIED:20250928T160731Z
UID:174686-1733562000-1733565600@stanthonyofpadua.ca
SUMMARY:†  SYAMALA BALREDDY†  SINGAREDDY JOGIREDDY†  SALIBINLA CHINNAPREDDY†  ELIZABTH BUSTOS APO†  LOLKJE GREIDANUS†  LUCIANO COLLANTES†  JULIA RIVIERENGUYEN ANCESTORSRENOLD & CASILDA-THANKSGIVING(40th WEDDING ANNIVERSITY)ALASTAIR & DENEESE - WEDDING ANNIVERSITYTHERESA BORUTSIEF - THANKSGIVING
DESCRIPTION:
URL:https://stanthonyofpadua.ca/event/%e2%80%a0-syamala-balreddy%e2%80%a0-singareddy-jogireddy%e2%80%a0-salibinla-chinnapreddy%e2%80%a0-elizabth-bustos-apo%e2%80%a0-lolkje-greidanus%e2%80%a0-luciano-collantes%e2%80%a0-julia-riviere-2/
LOCATION:St. Anthony of Padua\, 940 North Park Drive\, Brampton\, ON\, L6S 3L5\, Canada
CATEGORIES:MASS INTENTION
END:VEVENT
BEGIN:VEVENT
DTSTART;TZID=America/Toronto:20241207T170000
DTEND;TZID=America/Toronto:20241207T180000
DTSTAMP:20260421T111435
CREATED:20241130T200221Z
LAST-MODIFIED:20250928T160731Z
UID:174687-1733590800-1733594400@stanthonyofpadua.ca
SUMMARY:†  TRINETTE BALTHAZAAR
DESCRIPTION:
URL:https://stanthonyofpadua.ca/event/%e2%80%a0-trinette-balthazaar-2/
LOCATION:St. Anthony of Padua\, 940 North Park Drive\, Brampton\, ON\, L6S 3L5\, Canada
CATEGORIES:MASS INTENTION
END:VEVENT
END:VCALENDAR