BEGIN:VCALENDAR
VERSION:2.0
PRODID:-//St. Anthony of Padua - ECPv6.15.20//NONSGML v1.0//EN
CALSCALE:GREGORIAN
METHOD:PUBLISH
X-ORIGINAL-URL:https://stanthonyofpadua.ca
X-WR-CALDESC:Events for St. Anthony of Padua
REFRESH-INTERVAL;VALUE=DURATION:PT1H
X-Robots-Tag:noindex
X-PUBLISHED-TTL:PT1H
BEGIN:VTIMEZONE
TZID:America/Toronto
BEGIN:DAYLIGHT
TZOFFSETFROM:-0500
TZOFFSETTO:-0400
TZNAME:EDT
DTSTART:20230312T070000
END:DAYLIGHT
BEGIN:STANDARD
TZOFFSETFROM:-0400
TZOFFSETTO:-0500
TZNAME:EST
DTSTART:20231105T060000
END:STANDARD
BEGIN:DAYLIGHT
TZOFFSETFROM:-0500
TZOFFSETTO:-0400
TZNAME:EDT
DTSTART:20240310T070000
END:DAYLIGHT
BEGIN:STANDARD
TZOFFSETFROM:-0400
TZOFFSETTO:-0500
TZNAME:EST
DTSTART:20241103T060000
END:STANDARD
BEGIN:DAYLIGHT
TZOFFSETFROM:-0500
TZOFFSETTO:-0400
TZNAME:EDT
DTSTART:20250309T070000
END:DAYLIGHT
BEGIN:STANDARD
TZOFFSETFROM:-0400
TZOFFSETTO:-0500
TZNAME:EST
DTSTART:20251102T060000
END:STANDARD
END:VTIMEZONE
BEGIN:VEVENT
DTSTART;TZID=America/Toronto:20241217T090000
DTEND;TZID=America/Toronto:20241217T100000
DTSTAMP:20260420T220225
CREATED:20241217T014345Z
LAST-MODIFIED:20250928T160729Z
UID:174863-1734426000-1734429600@stanthonyofpadua.ca
SUMMARY:† GEORGIE & BENJAMIN THOMAS\nADORATION LAMPS:\nNO INTENTION
DESCRIPTION:
URL:https://stanthonyofpadua.ca/event/%e2%80%a0-georgie-benjamin-thomasadoration-lampsno-intention/
LOCATION:St. Anthony of Padua\, 940 North Park Drive\, Brampton\, ON\, L6S 3L5\, Canada
CATEGORIES:MASS INTENTION
END:VEVENT
BEGIN:VEVENT
DTSTART;TZID=America/Toronto:20241217T190000
DTEND;TZID=America/Toronto:20241217T200000
DTSTAMP:20260420T220225
CREATED:20241217T014345Z
LAST-MODIFIED:20250928T160729Z
UID:174864-1734462000-1734465600@stanthonyofpadua.ca
SUMMARY:† ANTHONY & MARIE DE SOUZA† MAX & MARI DE SOUZA† LOUIE DE'SOUZA† LYNETTE BROWN† JOSEPH CARDOSO† JOAQUINA MARIA FERNANDES† DELMA T.Y† LOUTHURASA RASIAHBABY MICHAEL - HEALINGBHAGMATTIE RAMSAWAK -HEALINGSHARMILA FRANCIS - THANKSGIVING
DESCRIPTION:
URL:https://stanthonyofpadua.ca/event/%e2%80%a0-anthony-marie-de-souza%e2%80%a0-max-mari-de-souza%e2%80%a0-louie-desouza%e2%80%a0-lynette-brown%e2%80%a0-joseph-cardoso%e2%80%a0-joaquina-maria-fernandes%e2%80%a0-delma-t-y/
LOCATION:St. Anthony of Padua\, 940 North Park Drive\, Brampton\, ON\, L6S 3L5\, Canada
CATEGORIES:MASS INTENTION
END:VEVENT
END:VCALENDAR