BEGIN:VCALENDAR
VERSION:2.0
PRODID:-//St. Anthony of Padua - ECPv6.15.20//NONSGML v1.0//EN
CALSCALE:GREGORIAN
METHOD:PUBLISH
X-WR-CALNAME:St. Anthony of Padua
X-ORIGINAL-URL:https://stanthonyofpadua.ca
X-WR-CALDESC:Events for St. Anthony of Padua
REFRESH-INTERVAL;VALUE=DURATION:PT1H
X-Robots-Tag:noindex
X-PUBLISHED-TTL:PT1H
BEGIN:VTIMEZONE
TZID:America/Toronto
BEGIN:DAYLIGHT
TZOFFSETFROM:-0500
TZOFFSETTO:-0400
TZNAME:EDT
DTSTART:20230312T070000
END:DAYLIGHT
BEGIN:STANDARD
TZOFFSETFROM:-0400
TZOFFSETTO:-0500
TZNAME:EST
DTSTART:20231105T060000
END:STANDARD
BEGIN:DAYLIGHT
TZOFFSETFROM:-0500
TZOFFSETTO:-0400
TZNAME:EDT
DTSTART:20240310T070000
END:DAYLIGHT
BEGIN:STANDARD
TZOFFSETFROM:-0400
TZOFFSETTO:-0500
TZNAME:EST
DTSTART:20241103T060000
END:STANDARD
BEGIN:DAYLIGHT
TZOFFSETFROM:-0500
TZOFFSETTO:-0400
TZNAME:EDT
DTSTART:20250309T070000
END:DAYLIGHT
BEGIN:STANDARD
TZOFFSETFROM:-0400
TZOFFSETTO:-0500
TZNAME:EST
DTSTART:20251102T060000
END:STANDARD
END:VTIMEZONE
BEGIN:VEVENT
DTSTART;TZID=America/Toronto:20241221T090000
DTEND;TZID=America/Toronto:20241221T100000
DTSTAMP:20260420T101519
CREATED:20241217T014400Z
LAST-MODIFIED:20250928T160728Z
UID:174868-1734771600-1734775200@stanthonyofpadua.ca
SUMMARY:† ROBERT PJ† TRINETTE BALTHAZAAR† M.M THOMAS† DELMA NIEVA TY† BORUISKE & RIUET FAMILIES† MARY ANNE MARTINJULIUS RICHARD - THANKSGIVINGGEORGE & RONMARSON RIMANDO - THANKSGIVINGTHOMMANNA VARGHESE FAMILY - THANKSGIVINGHONG - INTENTIONS
DESCRIPTION:
URL:https://stanthonyofpadua.ca/event/%e2%80%a0-robert-pj%e2%80%a0-trinette-balthazaar%e2%80%a0-m-m-thomas%e2%80%a0-delma-nieva-ty%e2%80%a0-boruiske-riuet-families%e2%80%a0-mary-anne-martinjulius-richard-thanksgivinggeorge-r/
LOCATION:St. Anthony of Padua\, 940 North Park Drive\, Brampton\, ON\, L6S 3L5\, Canada
CATEGORIES:MASS INTENTION
END:VEVENT
BEGIN:VEVENT
DTSTART;TZID=America/Toronto:20241221T170000
DTEND;TZID=America/Toronto:20241221T180000
DTSTAMP:20260420T101519
CREATED:20241217T014401Z
LAST-MODIFIED:20250928T160728Z
UID:174869-1734800400-1734804000@stanthonyofpadua.ca
SUMMARY:† DONALD\, TELMA CAMPBELL FAMILY
DESCRIPTION:
URL:https://stanthonyofpadua.ca/event/%e2%80%a0-donald-telma-campbell-family/
LOCATION:St. Anthony of Padua\, 940 North Park Drive\, Brampton\, ON\, L6S 3L5\, Canada
CATEGORIES:MASS INTENTION
END:VEVENT
END:VCALENDAR