BEGIN:VCALENDAR
VERSION:2.0
PRODID:-//St. Anthony of Padua - ECPv6.15.20//NONSGML v1.0//EN
CALSCALE:GREGORIAN
METHOD:PUBLISH
X-WR-CALNAME:St. Anthony of Padua
X-ORIGINAL-URL:https://stanthonyofpadua.ca
X-WR-CALDESC:Events for St. Anthony of Padua
REFRESH-INTERVAL;VALUE=DURATION:PT1H
X-Robots-Tag:noindex
X-PUBLISHED-TTL:PT1H
BEGIN:VTIMEZONE
TZID:America/Toronto
BEGIN:DAYLIGHT
TZOFFSETFROM:-0500
TZOFFSETTO:-0400
TZNAME:EDT
DTSTART:20250309T070000
END:DAYLIGHT
BEGIN:STANDARD
TZOFFSETFROM:-0400
TZOFFSETTO:-0500
TZNAME:EST
DTSTART:20251102T060000
END:STANDARD
BEGIN:DAYLIGHT
TZOFFSETFROM:-0500
TZOFFSETTO:-0400
TZNAME:EDT
DTSTART:20260308T070000
END:DAYLIGHT
BEGIN:STANDARD
TZOFFSETFROM:-0400
TZOFFSETTO:-0500
TZNAME:EST
DTSTART:20261101T060000
END:STANDARD
BEGIN:DAYLIGHT
TZOFFSETFROM:-0500
TZOFFSETTO:-0400
TZNAME:EDT
DTSTART:20270314T070000
END:DAYLIGHT
BEGIN:STANDARD
TZOFFSETFROM:-0400
TZOFFSETTO:-0500
TZNAME:EST
DTSTART:20271107T060000
END:STANDARD
END:VTIMEZONE
BEGIN:VEVENT
DTSTART;TZID=America/Toronto:20260421T090000
DTEND;TZID=America/Toronto:20260421T100000
DTSTAMP:20260425T120910
CREATED:20260418T132701Z
LAST-MODIFIED:20260418T132701Z
UID:177534-1776762000-1776765600@stanthonyofpadua.ca
SUMMARY:†  MARLENE SAMPSONADORATION LAMPS:PAT SENA
DESCRIPTION:
URL:https://stanthonyofpadua.ca/event/%e2%80%a0-marlene-sampsonadoration-lampspat-sena/
LOCATION:St. Anthony of Padua\, 940 North Park Drive\, Brampton\, ON\, L6S 3L5\, Canada
CATEGORIES:MASS INTENTION
END:VEVENT
BEGIN:VEVENT
DTSTART;TZID=America/Toronto:20260421T190000
DTEND;TZID=America/Toronto:20260421T200000
DTSTAMP:20260425T120910
CREATED:20260418T132707Z
LAST-MODIFIED:20260418T132707Z
UID:177535-1776798000-1776801600@stanthonyofpadua.ca
SUMMARY:†  MAGGIE JASSY & JASSY VICTOR†  ALL SOULS IN PURGATORY†  PETER HOANG†  MR. & MRS. JAVANS BURTON†  MR. & MRS. RUDOLF PASCAL†  JOYCE TISSERE - 1ST DEATH ANNIVERSAR†  TEOFILO & CONSUELO ALBORES†  RATHINAM THOMMAIPILLAI†  WILLIAM BLOXAMPHILIP THURAIRATNAM - SPECIAL INTENTIONERANGA MUMANDIRAMGE - THANKSGIVIN
DESCRIPTION:
URL:https://stanthonyofpadua.ca/event/%e2%80%a0-maggie-jassy-jassy-victor%e2%80%a0-all-souls-in-purgatory%e2%80%a0-peter-hoang%e2%80%a0-mr-mrs-javans-burton%e2%80%a0-mr-mrs-rudolf-pascal%e2%80%a0-joyce-tissere/
LOCATION:St. Anthony of Padua\, 940 North Park Drive\, Brampton\, ON\, L6S 3L5\, Canada
CATEGORIES:MASS INTENTION
END:VEVENT
BEGIN:VEVENT
DTSTART;TZID=America/Toronto:20260422T090000
DTEND;TZID=America/Toronto:20260422T100000
DTSTAMP:20260425T120910
CREATED:20260418T132707Z
LAST-MODIFIED:20260418T132707Z
UID:177536-1776848400-1776852000@stanthonyofpadua.ca
SUMMARY:OREST LYSAK - HEALING
DESCRIPTION:
URL:https://stanthonyofpadua.ca/event/orest-lysak-healing/
LOCATION:St. Anthony of Padua\, 940 North Park Drive\, Brampton\, ON\, L6S 3L5\, Canada
CATEGORIES:MASS INTENTION
END:VEVENT
BEGIN:VEVENT
DTSTART;TZID=America/Toronto:20260423T090000
DTEND;TZID=America/Toronto:20260423T100000
DTSTAMP:20260425T120910
CREATED:20260418T132708Z
LAST-MODIFIED:20260418T132708Z
UID:177537-1776934800-1776938400@stanthonyofpadua.ca
SUMMARY:†  DOROTHY NORONHA
DESCRIPTION:
URL:https://stanthonyofpadua.ca/event/%e2%80%a0-dorothy-noronha-2/
LOCATION:St. Anthony of Padua\, 940 North Park Drive\, Brampton\, ON\, L6S 3L5\, Canada
CATEGORIES:MASS INTENTION
END:VEVENT
BEGIN:VEVENT
DTSTART;TZID=America/Toronto:20260424T090000
DTEND;TZID=America/Toronto:20260424T100000
DTSTAMP:20260425T120910
CREATED:20260418T132709Z
LAST-MODIFIED:20260418T132709Z
UID:177538-1777021200-1777024800@stanthonyofpadua.ca
SUMMARY:†  DANIEL LYSAK
DESCRIPTION:
URL:https://stanthonyofpadua.ca/event/%e2%80%a0-daniel-lysak-2/
LOCATION:St. Anthony of Padua\, 940 North Park Drive\, Brampton\, ON\, L6S 3L5\, Canada
CATEGORIES:MASS INTENTION
END:VEVENT
BEGIN:VEVENT
DTSTART;TZID=America/Toronto:20260425T090000
DTEND;TZID=America/Toronto:20260425T100000
DTSTAMP:20260425T120910
CREATED:20260418T132717Z
LAST-MODIFIED:20260418T132717Z
UID:177539-1777107600-1777111200@stanthonyofpadua.ca
SUMMARY:†  MARK CASEY†  ELPIDINO & RICHARD†  MARIAMMA TITUS & TITUS. A†  DOMINIC & ANNA†  PETER HOANG†  NGUYEN FAMILY†  PHAM FAMILY†  AN & NICK ZAHODNIK†  CAMBEL & JOYE CAMOEND†  ANGEL JAMES TAYLOR†  SHEILIA FRANCIS†  LUCIANO COLLANTES†  ANA YOLANDA RIOS MURILIO
DESCRIPTION:
URL:https://stanthonyofpadua.ca/event/%e2%80%a0-mark-casey%e2%80%a0-elpidino-richard%e2%80%a0-mariamma-titus-titus-a%e2%80%a0-dominic-anna%e2%80%a0-peter-hoang%e2%80%a0-nguyen-family%e2%80%a0-pham-family%e2%80%a0/
LOCATION:St. Anthony of Padua\, 940 North Park Drive\, Brampton\, ON\, L6S 3L5\, Canada
CATEGORIES:MASS INTENTION
END:VEVENT
BEGIN:VEVENT
DTSTART;TZID=America/Toronto:20260425T170000
DTEND;TZID=America/Toronto:20260425T180000
DTSTAMP:20260425T120910
CREATED:20260418T132723Z
LAST-MODIFIED:20260418T132723Z
UID:177540-1777136400-1777140000@stanthonyofpadua.ca
SUMMARY:†  GERRY ZUZARTE
DESCRIPTION:
URL:https://stanthonyofpadua.ca/event/%e2%80%a0-gerry-zuzarte-2/
LOCATION:St. Anthony of Padua\, 940 North Park Drive\, Brampton\, ON\, L6S 3L5\, Canada
CATEGORIES:MASS INTENTION
END:VEVENT
BEGIN:VEVENT
DTSTART;TZID=America/Toronto:20260426T080000
DTEND;TZID=America/Toronto:20260426T090000
DTSTAMP:20260425T120910
CREATED:20260425T145804Z
LAST-MODIFIED:20260425T145804Z
UID:177548-1777190400-1777194000@stanthonyofpadua.ca
SUMMARY:PEOPLE OF ST. ANTHONY
DESCRIPTION:
URL:https://stanthonyofpadua.ca/event/people-of-st-anthony-67/
LOCATION:St. Anthony of Padua\, 940 North Park Drive\, Brampton\, ON\, L6S 3L5\, Canada
CATEGORIES:MASS INTENTION
END:VEVENT
BEGIN:VEVENT
DTSTART;TZID=America/Toronto:20260426T093000
DTEND;TZID=America/Toronto:20260426T103000
DTSTAMP:20260425T120910
CREATED:20260425T145809Z
LAST-MODIFIED:20260425T145809Z
UID:177549-1777195800-1777199400@stanthonyofpadua.ca
SUMMARY:† MANUEL CANALES
DESCRIPTION:
URL:https://stanthonyofpadua.ca/event/%e2%80%a0-manuel-canales/
LOCATION:St. Anthony of Padua\, 940 North Park Drive\, Brampton\, ON\, L6S 3L5\, Canada
CATEGORIES:MASS INTENTION
END:VEVENT
BEGIN:VEVENT
DTSTART;TZID=America/Toronto:20260426T110000
DTEND;TZID=America/Toronto:20260426T120000
DTSTAMP:20260425T120910
CREATED:20260425T145810Z
LAST-MODIFIED:20260425T145810Z
UID:177550-1777201200-1777204800@stanthonyofpadua.ca
SUMMARY:VINCENT THAIPARANBIL
DESCRIPTION:
URL:https://stanthonyofpadua.ca/event/vincent-thaiparanbil/
LOCATION:St. Anthony of Padua\, 940 North Park Drive\, Brampton\, ON\, L6S 3L5\, Canada
CATEGORIES:MASS INTENTION
END:VEVENT
BEGIN:VEVENT
DTSTART;TZID=America/Toronto:20260426T123000
DTEND;TZID=America/Toronto:20260426T133000
DTSTAMP:20260425T120910
CREATED:20260425T145810Z
LAST-MODIFIED:20260425T145810Z
UID:177551-1777206600-1777210200@stanthonyofpadua.ca
SUMMARY:† JOE FARIA
DESCRIPTION:
URL:https://stanthonyofpadua.ca/event/%e2%80%a0-joe-faria-4/
LOCATION:St. Anthony of Padua\, 940 North Park Drive\, Brampton\, ON\, L6S 3L5\, Canada
CATEGORIES:MASS INTENTION
END:VEVENT
BEGIN:VEVENT
DTSTART;TZID=America/Toronto:20260427T090000
DTEND;TZID=America/Toronto:20260427T100000
DTSTAMP:20260425T120910
CREATED:20260425T145811Z
LAST-MODIFIED:20260425T145811Z
UID:177552-1777280400-1777284000@stanthonyofpadua.ca
SUMMARY:† JOE FARIA
DESCRIPTION:
URL:https://stanthonyofpadua.ca/event/%e2%80%a0-joe-faria-5/
LOCATION:St. Anthony of Padua\, 940 North Park Drive\, Brampton\, ON\, L6S 3L5\, Canada
CATEGORIES:MASS INTENTION
END:VEVENT
BEGIN:VEVENT
DTSTART;TZID=America/Toronto:20260428T090000
DTEND;TZID=America/Toronto:20260428T100000
DTSTAMP:20260425T120910
CREATED:20260425T145814Z
LAST-MODIFIED:20260425T145814Z
UID:177553-1777366800-1777370400@stanthonyofpadua.ca
SUMMARY:† BOB OSBORNEADORATION LAMPS:NO INTENTIONS
DESCRIPTION:
URL:https://stanthonyofpadua.ca/event/%e2%80%a0-bob-osborneadoration-lampsno-intentions/
LOCATION:St. Anthony of Padua\, 940 North Park Drive\, Brampton\, ON\, L6S 3L5\, Canada
CATEGORIES:MASS INTENTION
END:VEVENT
BEGIN:VEVENT
DTSTART;TZID=America/Toronto:20260428T190000
DTEND;TZID=America/Toronto:20260428T200000
DTSTAMP:20260425T120910
CREATED:20260425T145821Z
LAST-MODIFIED:20260425T145821Z
UID:177554-1777402800-1777406400@stanthonyofpadua.ca
SUMMARY:† PHAM FAMILY† CATHARINA CERTEZA† AVELITA TUPAS† ALFONSO INGALLA
DESCRIPTION:
URL:https://stanthonyofpadua.ca/event/%e2%80%a0-pham-family%e2%80%a0-catharina-certeza%e2%80%a0-avelita-tupas%e2%80%a0-alfonso-ingalla/
LOCATION:St. Anthony of Padua\, 940 North Park Drive\, Brampton\, ON\, L6S 3L5\, Canada
CATEGORIES:MASS INTENTION
END:VEVENT
BEGIN:VEVENT
DTSTART;TZID=America/Toronto:20260429T090000
DTEND;TZID=America/Toronto:20260429T100000
DTSTAMP:20260425T120910
CREATED:20260425T145823Z
LAST-MODIFIED:20260425T145823Z
UID:177555-1777453200-1777456800@stanthonyofpadua.ca
SUMMARY:JOSE FRENCILLO
DESCRIPTION:
URL:https://stanthonyofpadua.ca/event/jose-frencillo/
LOCATION:St. Anthony of Padua\, 940 North Park Drive\, Brampton\, ON\, L6S 3L5\, Canada
CATEGORIES:MASS INTENTION
END:VEVENT
BEGIN:VEVENT
DTSTART;TZID=America/Toronto:20260430T090000
DTEND;TZID=America/Toronto:20260430T100000
DTSTAMP:20260425T120910
CREATED:20260425T145823Z
LAST-MODIFIED:20260425T145823Z
UID:177556-1777539600-1777543200@stanthonyofpadua.ca
SUMMARY:RON MATTISON
DESCRIPTION:
URL:https://stanthonyofpadua.ca/event/ron-mattison/
LOCATION:St. Anthony of Padua\, 940 North Park Drive\, Brampton\, ON\, L6S 3L5\, Canada
CATEGORIES:MASS INTENTION
END:VEVENT
BEGIN:VEVENT
DTSTART;TZID=America/Toronto:20260501T090000
DTEND;TZID=America/Toronto:20260501T100000
DTSTAMP:20260425T120910
CREATED:20260425T145824Z
LAST-MODIFIED:20260425T150205Z
UID:177557-1777626000-1777629600@stanthonyofpadua.ca
SUMMARY:ANTHONY PAZHAYATTIL
DESCRIPTION:
URL:https://stanthonyofpadua.ca/event/anthony-pazhayattil/
LOCATION:St. Anthony of Padua\, 940 North Park Drive\, Brampton\, ON\, L6S 3L5\, Canada
CATEGORIES:MASS INTENTION
END:VEVENT
BEGIN:VEVENT
DTSTART;TZID=America/Toronto:20260501T190000
DTEND;TZID=America/Toronto:20260501T200000
DTSTAMP:20260425T120910
CREATED:20260425T145830Z
LAST-MODIFIED:20260425T150055Z
UID:177558-1777662000-1777665600@stanthonyofpadua.ca
SUMMARY:ANTHONY & JOSEPHINE LIAUALL HOLY SOULS IN PURGATORYBRENDA & ALBERT BANNIS - THANKSGIVING
DESCRIPTION:
URL:https://stanthonyofpadua.ca/event/anthony-josephine-liauall-holy-souls-in-purgatorybrenda-albert-bannis-thanksgiving/
LOCATION:St. Anthony of Padua\, 940 North Park Drive\, Brampton\, ON\, L6S 3L5\, Canada
CATEGORIES:MASS INTENTION
END:VEVENT
BEGIN:VEVENT
DTSTART;TZID=America/Toronto:20260502T090000
DTEND;TZID=America/Toronto:20260502T100000
DTSTAMP:20260425T120910
CREATED:20260425T145834Z
LAST-MODIFIED:20260425T150247Z
UID:177559-1777712400-1777716000@stanthonyofpadua.ca
SUMMARY:JOHN & JOSEPHINE LIAU
DESCRIPTION:
URL:https://stanthonyofpadua.ca/event/john-josephine-liau/
LOCATION:St. Anthony of Padua\, 940 North Park Drive\, Brampton\, ON\, L6S 3L5\, Canada
CATEGORIES:MASS INTENTION
END:VEVENT
BEGIN:VEVENT
DTSTART;TZID=America/Toronto:20260502T170000
DTEND;TZID=America/Toronto:20260502T180000
DTSTAMP:20260425T120910
CREATED:20260425T145836Z
LAST-MODIFIED:20260425T150319Z
UID:177560-1777741200-1777744800@stanthonyofpadua.ca
SUMMARY:PHILOMENA & S. DAVID
DESCRIPTION:
URL:https://stanthonyofpadua.ca/event/philomena-s-david/
LOCATION:St. Anthony of Padua\, 940 North Park Drive\, Brampton\, ON\, L6S 3L5\, Canada
CATEGORIES:MASS INTENTION
END:VEVENT
END:VCALENDAR