BEGIN:VCALENDAR
VERSION:2.0
PRODID:-//St. Anthony of Padua - ECPv6.15.20//NONSGML v1.0//EN
CALSCALE:GREGORIAN
METHOD:PUBLISH
X-WR-CALNAME:St. Anthony of Padua
X-ORIGINAL-URL:https://stanthonyofpadua.ca
X-WR-CALDESC:Events for St. Anthony of Padua
REFRESH-INTERVAL;VALUE=DURATION:PT1H
X-Robots-Tag:noindex
X-PUBLISHED-TTL:PT1H
BEGIN:VTIMEZONE
TZID:America/Toronto
BEGIN:DAYLIGHT
TZOFFSETFROM:-0500
TZOFFSETTO:-0400
TZNAME:EDT
DTSTART:19690427T070000
END:DAYLIGHT
BEGIN:STANDARD
TZOFFSETFROM:-0400
TZOFFSETTO:-0500
TZNAME:EST
DTSTART:19691026T060000
END:STANDARD
BEGIN:DAYLIGHT
TZOFFSETFROM:-0500
TZOFFSETTO:-0400
TZNAME:EDT
DTSTART:19700426T070000
END:DAYLIGHT
BEGIN:STANDARD
TZOFFSETFROM:-0400
TZOFFSETTO:-0500
TZNAME:EST
DTSTART:19701025T060000
END:STANDARD
BEGIN:DAYLIGHT
TZOFFSETFROM:-0500
TZOFFSETTO:-0400
TZNAME:EDT
DTSTART:19710425T070000
END:DAYLIGHT
BEGIN:STANDARD
TZOFFSETFROM:-0400
TZOFFSETTO:-0500
TZNAME:EST
DTSTART:19711031T060000
END:STANDARD
END:VTIMEZONE
BEGIN:VEVENT
DTSTART;TZID=America/Toronto:20260419T182121
DTEND;TZID=America/Toronto:20260419T182121
DTSTAMP:20260419T182121
CREATED:20250125T170850Z
LAST-MODIFIED:20250928T160848Z
UID:175057-0-0@stanthonyofpadua.ca
SUMMARY:† JOB CHERIAN
DESCRIPTION:
URL:https://stanthonyofpadua.ca/event/%e2%80%a0-job-cherian/
LOCATION:ON
END:VEVENT
BEGIN:VEVENT
DTSTART;TZID=America/Toronto:20260419T182121
DTEND;TZID=America/Toronto:20260419T182121
DTSTAMP:20260419T182121
CREATED:20250125T170805Z
LAST-MODIFIED:20250928T160848Z
UID:175056-0-0@stanthonyofpadua.ca
SUMMARY:† TRINETTE BALTHAZAAR
DESCRIPTION:
URL:https://stanthonyofpadua.ca/event/%e2%80%a0-trinette-balthazaar-3/
LOCATION:ON
END:VEVENT
BEGIN:VEVENT
DTSTART;TZID=America/Toronto:20260419T182121
DTEND;TZID=America/Toronto:20260419T182121
DTSTAMP:20260419T182121
CREATED:20241005T025219Z
LAST-MODIFIED:20250928T160848Z
UID:174242-0-0@stanthonyofpadua.ca
SUMMARY:† ANN & JOSEPH IVANUSEVIC
DESCRIPTION:
URL:https://stanthonyofpadua.ca/event/%e2%80%a0-ann-joseph-ivanusevic/
LOCATION:ON
END:VEVENT
END:VCALENDAR